BEGIN:VCALENDAR
PRODID:-//Microsoft Corporation//Outlook 16.0 MIMEDIR//EN
VERSION:2.0
METHOD:REQUEST
X-MS-OLK-FORCEINSPECTOROPEN:TRUE
BEGIN:VTIMEZONE
TZID:Pacific Standard Time
BEGIN:STANDARD
DTSTART:16011104T020000
RRULE:FREQ=YEARLY;BYDAY=1SU;BYMONTH=11
TZOFFSETFROM:-0700
TZOFFSETTO:-0800
END:STANDARD
BEGIN:DAYLIGHT
DTSTART:16010311T020000
RRULE:FREQ=YEARLY;BYDAY=2SU;BYMONTH=3
TZOFFSETFROM:-0800
TZOFFSETTO:-0700
END:DAYLIGHT
END:VTIMEZONE
BEGIN:VEVENT
ATTENDEE;CN="Ferrer Joshua S";RSVP=TRUE:mailto:JOSHUA.S.FERRER@dhsoha.state
	.or.us
ATTENDEE;CN="Menza Timothy W";RSVP=TRUE:mailto:TIMOTHY.W.MENZA@dhsoha.state
	.or.us
ATTENDEE;CN="BENSON Annick";RSVP=TRUE:mailto:Annick.BENSON@dhsoha.state.or.
	us
ATTENDEE;CN="Cicognani Cedric M";RSVP=TRUE:mailto:CEDRIC.M.CICOGNANI@dhsoha
	.state.or.us
ATTENDEE;CN="Knapp Alicia T";RSVP=TRUE:mailto:ALICIA.T.KNAPP@dhsoha.state.o
	r.us
ATTENDEE;CN="Garai Jillian D";RSVP=TRUE:mailto:JILLIAN.D.GARAI@dhsoha.state
	.or.us
ATTENDEE;CN="BUSH Lea";RSVP=TRUE:mailto:Lea.BUSH@dhsoha.state.or.us
ATTENDEE;CN="Pearson Shelley M";RSVP=TRUE:mailto:SHELLEY.M.PEARSON@dhsoha.s
	tate.or.us
ATTENDEE;CN="DRACH Linda";RSVP=TRUE:mailto:Linda.DRACH@dhsoha.state.or.us
ATTENDEE;CN="Hargraves Heather A";RSVP=TRUE:mailto:HEATHER.A.HARGRAVES@dhso
	ha.state.or.us
CLASS:PUBLIC
CREATED:20220606T224751Z
DESCRIPTION:More info coming very soon…\n\nZoom Link:\n\nTopic: At-Home T
	esting/Self testing Listening Session\n\nTime: Jun 23\, 2022 09:00 AM Paci
	fic Time (US and Canada)\n\nJoin ZoomGov Meeting\n\nhttps://www.zoomgov.co
	m/j/1613594998?pwd=dkxzTXYxcE9qOVErcUMwT0JHblZuUT09\n\nMeeting ID: 161 359
	 4998\n\nPasscode: 575234\n\nOne tap mobile\n\n+16692545252\,\,1613594998#
	\,\,\,\,*575234# US (San Jose)\n\n+16468287666\,\,1613594998#\,\,\,\,*5752
	34# US (New York)\n\nDial by your location\n\n        +1 669 254 5252 US (
	San Jose)\n\n        +1 646 828 7666 US (New York)\n\nMeeting ID: 161 359 
	4998\n\nPasscode: 575234\n\nFind your local number: https://www.zoomgov.co
	m/u/acvzs00f2t\n\nJoin by SIP\n\n1613594998@sip.zoomgov.com <mailto:161359
	4998@sip.zoomgov.com> \n\nJoin by H.323\n\n161.199.138.10 (US West)\n\n161
	.199.136.10 (US East)\n\nMeeting ID: 161 359 4998\n\nPasscode: 575234\n\n_
	__________________________________________________________________________
	_____ \n\nMicrosoft Teams meeting \n\nJoin on your computer or mobile app 
	\n\nClick here to join the meeting <https://teams.microsoft.com/l/meetup-j
	oin/19%3ameeting_OTVkMjljZmMtNTY0OS00MWVmLTk5MzQtNTQxZGExMjZhMGU1%40thread
	.v2/0?context=%7b%22Tid%22%3a%22658e63e8-8d39-499c-8f48-13adc9452f4c%22%2c
	%22Oid%22%3a%228f3278a8-c002-4fa3-a769-38da175a0d0a%22%7d>  \n\nOr call in
	 (audio only) \n\n+1 971-277-2343\,\,625613133# <tel:+19712772343\,\,62561
	3133#>    United States\, Portland \n\nPhone Conference ID: 625 613 133# \
	n\nFind a local number <https://dialin.teams.microsoft.com/2df0f08c-5e2f-4
	516-b2d9-ce7dd2663420?id=625613133>  | Reset PIN <https://mysettings.lync.
	com/pstnconferencing>  \n\nFor technical assistance\, DHS and OHA employee
	s please contact the OIS Service Desk\; guests\, please click the "Learn m
	ore about Teams" link. \n\nLearn More <https://aka.ms/JoinTeamsMeeting>  |
	 Meeting options <https://teams.microsoft.com/meetingOptions/?organizerId=
	8f3278a8-c002-4fa3-a769-38da175a0d0a&tenantId=658e63e8-8d39-499c-8f48-13ad
	c9452f4c&threadId=19_meeting_OTVkMjljZmMtNTY0OS00MWVmLTk5MzQtNTQxZGExMjZhM
	GU1@thread.v2&messageId=0&language=en-US>  \n\n___________________________
	_____________________________________________________ \n\n \n\n
DTEND;TZID="Pacific Standard Time":20220623T103000
DTSTAMP:20220606T224626Z
DTSTART;TZID="Pacific Standard Time":20220623T090000
LAST-MODIFIED:20220606T224751Z
LOCATION:https://www.zoomgov.com/j/1613594998?pwd=dkxzTXYxcE9qOVErcUMwT0JHb
	lZuUT09
ORGANIZER;CN="Saucedo Javier":mailto:Javier.Saucedo@dhsoha.state.or.us
PRIORITY:5
SEQUENCE:2
SUMMARY;LANGUAGE=en-us: At-Home Testing/Self testing Listening Session
TRANSP:OPAQUE
UID:040000008200E00074C5B7101A82E008000000009071EB13D469D801000000000000000
	0100000008C86AB610016C84A938A8DF178E1214C
X-ALT-DESC;FMTTYPE=text/html:<html xmlns:v="urn:schemas-microsoft-com:vml" 
	xmlns:o="urn:schemas-microsoft-com:office:office" xmlns:w="urn:schemas-mic
	rosoft-com:office:word" xmlns:m="http://schemas.microsoft.com/office/2004/
	12/omml" xmlns="http://www.w3.org/TR/REC-html40"><head><meta name=Generato
	r content="Microsoft Word 15 (filtered medium)"><style><!--\n/* Font Defin
	itions */\n@font-face\n	{font-family:"Cambria Math"\;\n	panose-1:2 4 5 3 5
	 4 6 3 2 4\;}\n@font-face\n	{font-family:Calibri\;\n	panose-1:2 15 5 2 2 2
	 4 3 2 4\;}\n@font-face\n	{font-family:"Segoe UI"\;\n	panose-1:2 11 5 2 4 
	2 4 2 2 3\;}\n@font-face\n	{font-family:"Segoe UI Semibold"\;\n	panose-1:2
	 11 7 2 4 2 4 2 2 3\;}\n/* Style Definitions */\np.MsoNormal\, li.MsoNorma
	l\, div.MsoNormal\n	{margin:0in\;\n	font-size:11.0pt\;\n	font-family:"Cali
	bri"\,sans-serif\;}\na:link\, span.MsoHyperlink\n	{mso-style-priority:99\;
	\n	color:#0563C1\;\n	text-decoration:underline\;}\nspan.EmailStyle18\n	{ms
	o-style-type:personal-compose\;\n	font-family:"Calibri"\,sans-serif\;\n	co
	lor:windowtext\;}\n.MsoChpDefault\n	{mso-style-type:export-only\;\n	font-s
	ize:10.0pt\;}\n@page WordSection1\n	{size:8.5in 11.0in\;\n	margin:1.0in 1.
	0in 1.0in 1.0in\;}\ndiv.WordSection1\n	{page:WordSection1\;}\n--></style><
	!--[if gte mso 9]><xml>\n<o:shapedefaults v:ext="edit" spidmax="1026" />\n
	</xml><![endif]--><!--[if gte mso 9]><xml>\n<o:shapelayout v:ext="edit">\n
	<o:idmap v:ext="edit" data="1" />\n</o:shapelayout></xml><![endif]--></hea
	d><body lang=EN-US link="#0563C1" vlink="#954F72" style='word-wrap:break-w
	ord'><div class=WordSection1><p class=MsoNormal>More info coming very soon
	&#8230\;<o:p></o:p></p><p class=MsoNormal>Zoom Link:<o:p></o:p></p><p clas
	s=MsoNormal>Topic: At-Home Testing/Self testing Listening Session<o:p></o:
	p></p><p class=MsoNormal>Time: Jun 23\, 2022 09:00 AM Pacific Time (US and
	 Canada)<o:p></o:p></p><p class=MsoNormal> <o:p></o:p></p><p class=MsoNorm
	al>Join ZoomGov Meeting<o:p></o:p></p><p class=MsoNormal><a href="https://
	www.zoomgov.com/j/1613594998?pwd=dkxzTXYxcE9qOVErcUMwT0JHblZuUT09">https:/
	/www.zoomgov.com/j/1613594998?pwd=dkxzTXYxcE9qOVErcUMwT0JHblZuUT09</a><o:p
	></o:p></p><p class=MsoNormal> <o:p></o:p></p><p class=MsoNormal>Meeting I
	D: 161 359 4998<o:p></o:p></p><p class=MsoNormal>Passcode: 575234<o:p></o:
	p></p><p class=MsoNormal>One tap mobile<o:p></o:p></p><p class=MsoNormal>+
	16692545252\,\,1613594998#\,\,\,\,*575234# US (San Jose)<o:p></o:p></p><p 
	class=MsoNormal>+16468287666\,\,1613594998#\,\,\,\,*575234# US (New York)<
	o:p></o:p></p><p class=MsoNormal> <o:p></o:p></p><p class=MsoNormal>Dial b
	y your location<o:p></o:p></p><p class=MsoNormal>&nbsp\;&nbsp\;&nbsp\;&nbs
	p\;&nbsp\;&nbsp\;&nbsp\; +1 669 254 5252 US (San Jose)<o:p></o:p></p><p cl
	ass=MsoNormal>&nbsp\;&nbsp\;&nbsp\;&nbsp\;&nbsp\;&nbsp\;&nbsp\; +1 646 828
	 7666 US (New York)<o:p></o:p></p><p class=MsoNormal>Meeting ID: 161 359 4
	998<o:p></o:p></p><p class=MsoNormal>Passcode: 575234<o:p></o:p></p><p cla
	ss=MsoNormal>Find your local number: <a href="https://www.zoomgov.com/u/ac
	vzs00f2t">https://www.zoomgov.com/u/acvzs00f2t</a><o:p></o:p></p><p class=
	MsoNormal> <o:p></o:p></p><p class=MsoNormal>Join by SIP<o:p></o:p></p><p 
	class=MsoNormal><a href="mailto:1613594998@sip.zoomgov.com">1613594998@sip
	.zoomgov.com</a><o:p></o:p></p><p class=MsoNormal> <o:p></o:p></p><p class
	=MsoNormal>Join by H.323<o:p></o:p></p><p class=MsoNormal>161.199.138.10 (
	US West)<o:p></o:p></p><p class=MsoNormal>161.199.136.10 (US East)<o:p></o
	:p></p><p class=MsoNormal>Meeting ID: 161 359 4998<o:p></o:p></p><p class=
	MsoNormal>Passcode: 575234<o:p></o:p></p><div><p class=MsoNormal><span sty
	le='color:#5F5F5F'>_______________________________________________________
	_________________________</span> <o:p></o:p></p></div><div><div style='mar
	gin-top:.25in\;margin-bottom:15.0pt'><p class=MsoNormal><span style='font-
	size:18.0pt\;font-family:"Segoe UI"\,sans-serif\;color:#252424'>Microsoft 
	Teams meeting</span><span style='font-family:"Segoe UI"\,sans-serif\;color
	:#252424'> <o:p></o:p></span></p></div><div style='margin-bottom:15.0pt'><
	div><p class=MsoNormal><b><span style='font-size:10.5pt\;font-family:"Sego
	e UI"\,sans-serif\;color:#252424'>Join on your computer or mobile app</spa
	n></b><b><span style='font-family:"Segoe UI"\,sans-serif\;color:#252424'> 
	<o:p></o:p></span></b></p></div><p class=MsoNormal><span style='font-famil
	y:"Segoe UI"\,sans-serif\;color:#252424'><a href="https://teams.microsoft.
	com/l/meetup-join/19%3ameeting_OTVkMjljZmMtNTY0OS00MWVmLTk5MzQtNTQxZGExMjZ
	hMGU1%40thread.v2/0?context=%7b%22Tid%22%3a%22658e63e8-8d39-499c-8f48-13ad
	c9452f4c%22%2c%22Oid%22%3a%228f3278a8-c002-4fa3-a769-38da175a0d0a%22%7d" t
	arget="_blank"><span style='font-size:10.5pt\;font-family:"Segoe UI Semibo
	ld"\,sans-serif\;color:#6264A7'>Click here to join the meeting</span></a> 
	<o:p></o:p></span></p></div><div style='margin-bottom:3.0pt'><div style='m
	argin-bottom:3.0pt'><p class=MsoNormal><b><span style='font-size:10.5pt\;f
	ont-family:"Segoe UI"\,sans-serif\;color:#252424'>Or call in (audio only)<
	/span></b><span style='font-family:"Segoe UI"\,sans-serif\;color:#252424'>
	 <o:p></o:p></span></p></div><div style='margin-bottom:3.0pt'><p class=Mso
	Normal><span style='font-family:"Segoe UI"\,sans-serif\;color:#252424'><a 
	href="tel:+19712772343\,\,625613133# "><span style='font-size:10.5pt\;colo
	r:#6264A7'>+1 971-277-2343\,\,625613133#</span></a> </span><span style='fo
	nt-size:10.5pt\;font-family:"Segoe UI"\,sans-serif\;color:#252424'>&nbsp\;
	 United States\, Portland </span><span style='font-family:"Segoe UI"\,sans
	-serif\;color:#252424'><o:p></o:p></span></p></div></div><p class=MsoNorma
	l><span style='font-size:10.5pt\;font-family:"Segoe UI"\,sans-serif\;color
	:#252424'>Phone Conference ID: </span><span style='font-size:12.0pt\;font-
	family:"Segoe UI"\,sans-serif\;color:#252424'>625 613 133# </span><span st
	yle='font-family:"Segoe UI"\,sans-serif\;color:#252424'><o:p></o:p></span>
	</p><div style='margin-bottom:15.0pt'><p class=MsoNormal><span style='font
	-family:"Segoe UI"\,sans-serif\;color:#252424'><a href="https://dialin.tea
	ms.microsoft.com/2df0f08c-5e2f-4516-b2d9-ce7dd2663420?id=625613133" target
	="_blank"><span style='font-size:10.5pt\;color:#6264A7'>Find a local numbe
	r</span></a> | <a href="https://mysettings.lync.com/pstnconferencing" targ
	et="_blank"><span style='font-size:10.5pt\;color:#6264A7'>Reset PIN</span>
	</a> <o:p></o:p></span></p></div><div style='margin-bottom:3.0pt'><p class
	=MsoNormal><span style='font-size:10.5pt\;font-family:"Segoe UI"\,sans-ser
	if\;color:#252424'>For technical assistance\, DHS and OHA employees please
	 contact the OIS Service Desk\; guests\, please click the &quot\;Learn mor
	e about Teams&quot\; link. <o:p></o:p></span></p></div><div style='margin-
	top:15.0pt\;margin-bottom:.25in'><p class=MsoNormal><span style='font-fami
	ly:"Segoe UI"\,sans-serif\;color:#252424'><a href="https://aka.ms/JoinTeam
	sMeeting" target="_blank"><span style='font-size:10.5pt\;color:#6264A7'>Le
	arn More</span></a> | <a href="https://teams.microsoft.com/meetingOptions/
	?organizerId=8f3278a8-c002-4fa3-a769-38da175a0d0a&amp\;tenantId=658e63e8-8
	d39-499c-8f48-13adc9452f4c&amp\;threadId=19_meeting_OTVkMjljZmMtNTY0OS00MW
	VmLTk5MzQtNTQxZGExMjZhMGU1@thread.v2&amp\;messageId=0&amp\;language=en-US"
	 target="_blank"><span style='font-size:10.5pt\;color:#6264A7'>Meeting opt
	ions</span></a> <o:p></o:p></span></p></div></div><div><p class=MsoNormal>
	<span style='color:#5F5F5F'>______________________________________________
	__________________________________</span> <o:p></o:p></p></div><p class=Ms
	oNormal><o:p>&nbsp\;</o:p></p></div></body></html>
X-MICROSOFT-CDO-BUSYSTATUS:BUSY
X-MICROSOFT-CDO-IMPORTANCE:1
X-MICROSOFT-DISALLOW-COUNTER:FALSE
X-MS-OLK-APPTLASTSEQUENCE:2
X-MS-OLK-APPTSEQTIME:20220606T224626Z
X-MS-OLK-AUTOFILLLOCATION:FALSE
X-MS-OLK-CONFTYPE:0
BEGIN:VALARM
TRIGGER:-PT15M
ACTION:DISPLAY
DESCRIPTION:Reminder
END:VALARM
END:VEVENT
END:VCALENDAR
