BEGIN:VCALENDAR
PRODID:-//Microsoft Corporation//Outlook 16.0 MIMEDIR//EN
VERSION:2.0
METHOD:REQUEST
X-MS-OLK-FORCEINSPECTOROPEN:TRUE
BEGIN:VTIMEZONE
TZID:Pacific Standard Time
BEGIN:STANDARD
DTSTART:16011104T020000
RRULE:FREQ=YEARLY;BYDAY=1SU;BYMONTH=11
TZOFFSETFROM:-0700
TZOFFSETTO:-0800
END:STANDARD
BEGIN:DAYLIGHT
DTSTART:16010311T020000
RRULE:FREQ=YEARLY;BYDAY=2SU;BYMONTH=3
TZOFFSETFROM:-0800
TZOFFSETTO:-0700
END:DAYLIGHT
END:VTIMEZONE
BEGIN:VEVENT
ATTENDEE;CN="Mazzei Amelia Aibina";RSVP=TRUE:mailto:Amelia.E.Mazzei@oha.ore
	gon.gov
ATTENDEE;CN="Chakwin Ann  A";RSVP=TRUE:mailto:Ann.Chakwin@oha.oregon.gov
ATTENDEE;CN="PHD/LHD Calendar";RSVP=TRUE:mailto:PHDLHD.Calendar@odhsoha.ore
	gon.gov
ATTENDEE;CN="Alison Goldstein";ROLE=OPT-PARTICIPANT;RSVP=TRUE:mailto:Alison
	.Goldstein@odhsoha.oregon.gov
ATTENDEE;CN="Garai Jillian D";ROLE=OPT-PARTICIPANT;RSVP=TRUE:mailto:JILLIAN
	.D.GARAI@oha.oregon.gov
ATTENDEE;CN="Knapp Alicia T";ROLE=OPT-PARTICIPANT;RSVP=TRUE:mailto:ALICIA.T
	.KNAPP@oha.oregon.gov
ATTENDEE;CN="BUSH Lea";ROLE=OPT-PARTICIPANT;RSVP=TRUE:mailto:Lea.BUSH@oha.o
	regon.gov
ATTENDEE;CN="Singson Pete Paul";ROLE=OPT-PARTICIPANT;RSVP=TRUE:mailto:Pete.
	P.Singson@oha.oregon.gov
ATTENDEE;CN="BENSON Annick";ROLE=OPT-PARTICIPANT;RSVP=TRUE:mailto:Annick.BE
	NSON@oha.oregon.gov
ATTENDEE;CN="Bortoli Gianna A";ROLE=OPT-PARTICIPANT;RSVP=TRUE:mailto:Gianna
	.A.Bortoli@oha.oregon.gov
ATTENDEE;CN="Gluzberg Jenya";ROLE=OPT-PARTICIPANT;RSVP=TRUE:mailto:Jenya.Gl
	uzberg@oha.oregon.gov
ATTENDEE;CN="Lindy McCasland";ROLE=OPT-PARTICIPANT;RSVP=TRUE:mailto:lindym@
	hoodrivercounty.gov
ATTENDEE;CN="Nicole Pierce";ROLE=OPT-PARTICIPANT;RSVP=TRUE:mailto:Nicole.Pi
	erce@publichealth.jeffersonCountyOR.gov
CLASS:PUBLIC
CREATED:20241126T213913Z
DTEND;TZID="Pacific Standard Time":20250114T113000
DTSTAMP:20241122T223725Z
DTSTART;TZID="Pacific Standard Time":20250114T100000
LAST-MODIFIED:20241126T213913Z
LOCATION:Zoom - Link in invitation
ORGANIZER;CN="Shelley Pearson (she/her)":mailto:SHELLEY.M.PEARSON@oha.orego
	n.gov
PRIORITY:5
SEQUENCE:1
SUMMARY;LANGUAGE=en-us:Intro to Rapid Testing Webinar
TRANSP:OPAQUE
UID:040000008200E00074C5B7101A82E008000000008075D481EA3CDB01000000000000000
	01000000057898917959B424BA9BE49234AE3EF12
X-MICROSOFT-CDO-BUSYSTATUS:BUSY
X-MICROSOFT-CDO-IMPORTANCE:1
X-MICROSOFT-DISALLOW-COUNTER:FALSE
X-MS-OLK-APPTLASTSEQUENCE:3
X-MS-OLK-APPTSEQTIME:20241122T223725Z
X-MS-OLK-AUTOFILLLOCATION:FALSE
X-MS-OLK-CONFTYPE:0
BEGIN:VALARM
TRIGGER:-PT15M
ACTION:DISPLAY
DESCRIPTION:Reminder
END:VALARM
END:VEVENT
END:VCALENDAR
