BEGIN:VCALENDAR
PRODID:-//Microsoft Corporation//Outlook 16.0 MIMEDIR//EN
VERSION:2.0
METHOD:REQUEST
X-MS-OLK-FORCEINSPECTOROPEN:TRUE
BEGIN:VTIMEZONE
TZID:Pacific Standard Time
BEGIN:STANDARD
DTSTART:16011104T020000
RRULE:FREQ=YEARLY;BYDAY=1SU;BYMONTH=11
TZOFFSETFROM:-0700
TZOFFSETTO:-0800
END:STANDARD
BEGIN:DAYLIGHT
DTSTART:16010311T020000
RRULE:FREQ=YEARLY;BYDAY=2SU;BYMONTH=3
TZOFFSETFROM:-0800
TZOFFSETTO:-0700
END:DAYLIGHT
END:VTIMEZONE
BEGIN:VEVENT
ATTENDEE;CN="Mazzei Amelia Aibina";RSVP=TRUE:mailto:Amelia.E.Mazzei@oha.ore
	gon.gov
ATTENDEE;CN="Chakwin Ann  A";RSVP=TRUE:mailto:Ann.Chakwin@oha.oregon.gov
ATTENDEE;CN="PHD/LHD Calendar";RSVP=TRUE:mailto:PHDLHD.Calendar@odhsoha.ore
	gon.gov
ATTENDEE;CN="Alison Goldstein";ROLE=OPT-PARTICIPANT;RSVP=TRUE:mailto:Alison
	.Goldstein@odhsoha.oregon.gov
ATTENDEE;CN="Garai Jillian D";ROLE=OPT-PARTICIPANT;RSVP=TRUE:mailto:JILLIAN
	.D.GARAI@oha.oregon.gov
ATTENDEE;CN="Knapp Alicia T";ROLE=OPT-PARTICIPANT;RSVP=TRUE:mailto:ALICIA.T
	.KNAPP@oha.oregon.gov
ATTENDEE;CN="BUSH Lea";ROLE=OPT-PARTICIPANT;RSVP=TRUE:mailto:Lea.BUSH@oha.o
	regon.gov
ATTENDEE;CN="Singson Pete Paul";ROLE=OPT-PARTICIPANT;RSVP=TRUE:mailto:Pete.
	P.Singson@oha.oregon.gov
ATTENDEE;CN="BENSON Annick";ROLE=OPT-PARTICIPANT;RSVP=TRUE:mailto:Annick.BE
	NSON@oha.oregon.gov
ATTENDEE;CN="Bortoli Gianna A";ROLE=OPT-PARTICIPANT;RSVP=TRUE:mailto:Gianna
	.A.Bortoli@oha.oregon.gov
ATTENDEE;CN="Gluzberg Jenya";ROLE=OPT-PARTICIPANT;RSVP=TRUE:mailto:Jenya.Gl
	uzberg@oha.oregon.gov
ATTENDEE;CN="Lindy McCasland";ROLE=OPT-PARTICIPANT;RSVP=TRUE:mailto:lindym@
	hoodrivercounty.gov
ATTENDEE;CN="Rebecca Stricker";ROLE=OPT-PARTICIPANT;RSVP=TRUE:mailto:Rebecc
	a.Stricker@malheurco.org
ATTENDEE;CN="Jessica George";ROLE=OPT-PARTICIPANT;RSVP=TRUE:mailto:Jessica.
	George@publichealth.jeffersoncountyor.gov
ATTENDEE;CN="Gayle Woodworth";ROLE=OPT-PARTICIPANT;RSVP=TRUE:mailto:gaylewo
	odworth@linncountyhealth.org
ATTENDEE;CN="Christine Keating";ROLE=OPT-PARTICIPANT;RSVP=TRUE:mailto:Chris
	tine_Keating@washingtoncountyor.gov
ATTENDEE;CN="Kim Nelson";ROLE=OPT-PARTICIPANT;RSVP=TRUE:mailto:knelson@bake
	rcountyor.gov
ATTENDEE;CN="Abigail Gray";ROLE=OPT-PARTICIPANT;RSVP=TRUE:mailto:graya@yamh
	illcounty.gov
ATTENDEE;CN="Alanna Spry";ROLE=OPT-PARTICIPANT;RSVP=TRUE:mailto:ASpry@crook
	publichealthor.gov
ATTENDEE;CN="Miriam Morehart";ROLE=OPT-PARTICIPANT;RSVP=TRUE:mailto:miriam.
	morehart@multco.us
ATTENDEE;CN="Selena Peña";ROLE=OPT-PARTICIPANT;RSVP=TRUE:mailto:selena.pen
	a@multco.us
ATTENDEE;CN="Brumbaugh Marsha";ROLE=OPT-PARTICIPANT;RSVP=TRUE:mailto:marsha
	.r.brumbaugh@multco.us
ATTENDEE;CN="Lipira Lauren E";ROLE=OPT-PARTICIPANT;RSVP=TRUE:mailto:Lauren.
	E.Lipira@odhsoha.oregon.gov
ATTENDEE;CN="Lauren Lipira";ROLE=OPT-PARTICIPANT;RSVP=TRUE:mailto:llipira@p
	dx.edu
ATTENDEE;CN="Lalaine Sevillano";ROLE=OPT-PARTICIPANT;RSVP=TRUE:mailto:l.sev
	illano@pdx.edu
ATTENDEE;CN="Leon Eduardo";ROLE=OPT-PARTICIPANT;RSVP=TRUE:mailto:eleon@pdx.
	edu
ATTENDEE;CN="Maguire Christina";ROLE=OPT-PARTICIPANT;RSVP=TRUE:mailto:cmagu
	ire@pdx.edu
CLASS:PUBLIC
CREATED:20250116T222510Z
DESCRIPTION:OHA will be offering this Partner Spotlights session as a follo
	w-up to last week’s Intro to Rapid Testing Webinar for Local Public Heal
	th partners\, co-hosted by the HIV/STI Prevention team and the Viral Hepat
	itis team. Several Local Public Health partners will share their experienc
	es and insights about rapid testing for HIV\, syphilis\, and HCV. We will 
	have time at the end for discussion / Q&A.\n\n \n\nShelley Pearson (she/he
	r) is inviting you to a scheduled ZoomGov meeting.\n\n \n\nTopic: Rapid Te
	sting Webinar - Partner Spotlights\n\nTime: Jan 21\, 2025 11:00 AM Pacific
	 Time (US and Canada)\n\n \n\nJoin ZoomGov Meeting\n\nhttps://www.zoomgov.
	com/j/1610935994?pwd=peEHEh6z8LrFHMB4D4UfRH4fzKHJsH.1\n\n \n\nMeeting ID: 
	161 093 5994\n\nPasscode: 791993\n\n \n\n---\n\n \n\nOne tap mobile\n\n+16
	692545252\,\,1610935994#\,\,\,\,*791993# US (San Jose)\n\n+16468287666\,\,
	1610935994#\,\,\,\,*791993# US (New York)\n\n \n\n---\n\n \n\nDial by your
	 location\n\n• +1 669 254 5252 US (San Jose)\n\n• +1 646 828 7666 US (
	New York)\n\n \n\nMeeting ID: 161 093 5994\n\nPasscode: 791993\n\n \n\nFin
	d your local number: https://www.zoomgov.com/u/adTEYGswXO\n\n \n\n---\n\n 
	\n\nJoin by SIP\n\n• 1610935994@sip.zoomgov.com <mailto:1610935994@sip.z
	oomgov.com> \n\n \n\n---\n\n \n\nJoin by H.323\n\n• 161.199.138.10 (US W
	est)\n\n• 161.199.136.10 (US East)\n\n \n\nMeeting ID: 161 093 5994\n\nP
	asscode: 791993\n\n \n\n \n\n \n\n
DTEND;TZID="Pacific Standard Time":20250121T123000
DTSTAMP:20250114T195648Z
DTSTART;TZID="Pacific Standard Time":20250121T110000
LAST-MODIFIED:20250116T222510Z
LOCATION:Zoom - Link in invitation
ORGANIZER;CN="Shelley Pearson (she/her)":mailto:SHELLEY.M.PEARSON@oha.orego
	n.gov
PRIORITY:5
SEQUENCE:0
SUMMARY;LANGUAGE=en-us:Rapid Testing Webinar - Partner Spotlights
TRANSP:OPAQUE
UID:040000008200E00074C5B7101A82E0080000000090C16A20EB3CDB01000000000000000
	010000000AFBB8B952A24E142A6313E6AE7A4E176
X-ALT-DESC;FMTTYPE=text/html:<html xmlns:v="urn:schemas-microsoft-com:vml" 
	xmlns:o="urn:schemas-microsoft-com:office:office" xmlns:w="urn:schemas-mic
	rosoft-com:office:word" xmlns:m="http://schemas.microsoft.com/office/2004/
	12/omml" xmlns="http://www.w3.org/TR/REC-html40"><head><meta name=Generato
	r content="Microsoft Word 15 (filtered medium)"><style><!--\n/* Font Defin
	itions */\n@font-face\n	{font-family:"Cambria Math"\;\n	panose-1:2 4 5 3 5
	 4 6 3 2 4\;}\n@font-face\n	{font-family:Calibri\;\n	panose-1:2 15 5 2 2 2
	 4 3 2 4\;}\n@font-face\n	{font-family:Verdana\;\n	panose-1:2 11 6 4 3 5 4
	 4 2 4\;}\n@font-face\n	{font-family:"Segoe UI"\;\n	panose-1:2 11 5 2 4 2 
	4 2 2 3\;}\n/* Style Definitions */\np.MsoNormal\, li.MsoNormal\, div.MsoN
	ormal\n	{margin:0in\;\n	font-size:11.0pt\;\n	font-family:"Calibri"\,sans-s
	erif\;\n	mso-ligatures:standardcontextual\;}\na:link\, span.MsoHyperlink\n
		{mso-style-priority:99\;\n	color:#0563C1\;\n	text-decoration:underline\;}
	\nspan.EmailStyle18\n	{mso-style-type:personal-compose\;\n	font-family:"Ve
	rdana"\,sans-serif\;\n	font-variant:normal !important\;\n	color:black\;\n	
	text-transform:none\;\n	font-weight:normal\;\n	font-style:normal\;\n	text-
	decoration:none none\;\n	vertical-align:baseline\;}\n.MsoChpDefault\n	{mso
	-style-type:export-only\;\n	font-size:10.0pt\;\n	mso-ligatures:none\;}\n@p
	age WordSection1\n	{size:8.5in 11.0in\;\n	margin:1.0in 1.0in 1.0in 1.0in\;
	}\ndiv.WordSection1\n	{page:WordSection1\;}\n--></style><!--[if gte mso 9]
	><xml>\n<o:shapedefaults v:ext="edit" spidmax="1026" />\n</xml><![endif]--
	><!--[if gte mso 9]><xml>\n<o:shapelayout v:ext="edit">\n<o:idmap v:ext="e
	dit" data="1" />\n</o:shapelayout></xml><![endif]--></head><body lang=EN-U
	S link="#0563C1" vlink="#954F72" style='word-wrap:break-word'><div class=W
	ordSection1><p class=MsoNormal><span style='font-size:12.0pt\;font-family:
	"Verdana"\,sans-serif\;color:black'>OHA will be offering this Partner Spot
	lights session as a follow-up to last week’s Intro to Rapid Testing Webi
	nar for Local Public Health partners\, co-hosted by the HIV/STI Prevention
	 team and the Viral Hepatitis team. Several Local Public Health partners w
	ill share their experiences and insights about rapid testing for HIV\, syp
	hilis\, and HCV. We will have time at the end for discussion / Q&amp\;A.<o
	:p></o:p></span></p><p class=MsoNormal><span style='font-size:12.0pt\;font
	-family:"Verdana"\,sans-serif\;color:black'><o:p>&nbsp\;</o:p></span></p><
	p class=MsoNormal><span style='font-size:12.0pt\;font-family:"Verdana"\,sa
	ns-serif\;color:black'>Shelley Pearson (she/her) is inviting you to a sche
	duled ZoomGov meeting.<o:p></o:p></span></p><p class=MsoNormal><span style
	='font-size:12.0pt\;font-family:"Verdana"\,sans-serif\;color:black'><o:p>&
	nbsp\;</o:p></span></p><p class=MsoNormal><span style='font-size:12.0pt\;f
	ont-family:"Verdana"\,sans-serif\;color:black'>Topic: Rapid Testing Webina
	r - Partner Spotlights<o:p></o:p></span></p><p class=MsoNormal><span style
	='font-size:12.0pt\;font-family:"Verdana"\,sans-serif\;color:black'>Time: 
	Jan 21\, 2025 11:00 AM Pacific Time (US and Canada)<o:p></o:p></span></p><
	p class=MsoNormal><span style='font-size:12.0pt\;font-family:"Verdana"\,sa
	ns-serif\;color:black'><o:p>&nbsp\;</o:p></span></p><p class=MsoNormal><sp
	an style='font-size:12.0pt\;font-family:"Verdana"\,sans-serif\;color:black
	'>Join ZoomGov Meeting<o:p></o:p></span></p><p class=MsoNormal><span style
	='font-size:12.0pt\;font-family:"Verdana"\,sans-serif\;color:black'><a hre
	f="https://www.zoomgov.com/j/1610935994?pwd=peEHEh6z8LrFHMB4D4UfRH4fzKHJsH
	.1">https://www.zoomgov.com/j/1610935994?pwd=peEHEh6z8LrFHMB4D4UfRH4fzKHJs
	H.1</a><o:p></o:p></span></p><p class=MsoNormal><span style='font-size:12.
	0pt\;font-family:"Verdana"\,sans-serif\;color:black'><o:p>&nbsp\;</o:p></s
	pan></p><p class=MsoNormal><span style='font-size:12.0pt\;font-family:"Ver
	dana"\,sans-serif\;color:black'>Meeting ID: 161 093 5994<o:p></o:p></span>
	</p><p class=MsoNormal><span style='font-size:12.0pt\;font-family:"Verdana
	"\,sans-serif\;color:black'>Passcode: 791993<o:p></o:p></span></p><p class
	=MsoNormal><span style='font-size:12.0pt\;font-family:"Verdana"\,sans-seri
	f\;color:black'><o:p>&nbsp\;</o:p></span></p><p class=MsoNormal><span styl
	e='font-size:12.0pt\;font-family:"Verdana"\,sans-serif\;color:black'>---<o
	:p></o:p></span></p><p class=MsoNormal><span style='font-size:12.0pt\;font
	-family:"Verdana"\,sans-serif\;color:black'><o:p>&nbsp\;</o:p></span></p><
	p class=MsoNormal><span style='font-size:12.0pt\;font-family:"Verdana"\,sa
	ns-serif\;color:black'>One tap mobile<o:p></o:p></span></p><p class=MsoNor
	mal><span style='font-size:12.0pt\;font-family:"Verdana"\,sans-serif\;colo
	r:black'>+16692545252\,\,1610935994#\,\,\,\,*791993# US (San Jose)<o:p></o
	:p></span></p><p class=MsoNormal><span style='font-size:12.0pt\;font-famil
	y:"Verdana"\,sans-serif\;color:black'>+16468287666\,\,1610935994#\,\,\,\,*
	791993# US (New York)<o:p></o:p></span></p><p class=MsoNormal><span style=
	'font-size:12.0pt\;font-family:"Verdana"\,sans-serif\;color:black'><o:p>&n
	bsp\;</o:p></span></p><p class=MsoNormal><span style='font-size:12.0pt\;fo
	nt-family:"Verdana"\,sans-serif\;color:black'>---<o:p></o:p></span></p><p 
	class=MsoNormal><span style='font-size:12.0pt\;font-family:"Verdana"\,sans
	-serif\;color:black'><o:p>&nbsp\;</o:p></span></p><p class=MsoNormal><span
	 style='font-size:12.0pt\;font-family:"Verdana"\,sans-serif\;color:black'>
	Dial by your location<o:p></o:p></span></p><p class=MsoNormal><span style=
	'font-size:12.0pt\;font-family:"Verdana"\,sans-serif\;color:black'>• +1 
	669 254 5252 US (San Jose)<o:p></o:p></span></p><p class=MsoNormal><span s
	tyle='font-size:12.0pt\;font-family:"Verdana"\,sans-serif\;color:black'>
	• +1 646 828 7666 US (New York)<o:p></o:p></span></p><p class=MsoNormal>
	<span style='font-size:12.0pt\;font-family:"Verdana"\,sans-serif\;color:bl
	ack'><o:p>&nbsp\;</o:p></span></p><p class=MsoNormal><span style='font-siz
	e:12.0pt\;font-family:"Verdana"\,sans-serif\;color:black'>Meeting ID: 161 
	093 5994<o:p></o:p></span></p><p class=MsoNormal><span style='font-size:12
	.0pt\;font-family:"Verdana"\,sans-serif\;color:black'>Passcode: 791993<o:p
	></o:p></span></p><p class=MsoNormal><span style='font-size:12.0pt\;font-f
	amily:"Verdana"\,sans-serif\;color:black'><o:p>&nbsp\;</o:p></span></p><p 
	class=MsoNormal><span style='font-size:12.0pt\;font-family:"Verdana"\,sans
	-serif\;color:black'>Find your local number: <a href="https://www.zoomgov.
	com/u/adTEYGswXO">https://www.zoomgov.com/u/adTEYGswXO</a><o:p></o:p></spa
	n></p><p class=MsoNormal><span style='font-size:12.0pt\;font-family:"Verda
	na"\,sans-serif\;color:black'><o:p>&nbsp\;</o:p></span></p><p class=MsoNor
	mal><span style='font-size:12.0pt\;font-family:"Verdana"\,sans-serif\;colo
	r:black'>---<o:p></o:p></span></p><p class=MsoNormal><span style='font-siz
	e:12.0pt\;font-family:"Verdana"\,sans-serif\;color:black'><o:p>&nbsp\;</o:
	p></span></p><p class=MsoNormal><span style='font-size:12.0pt\;font-family
	:"Verdana"\,sans-serif\;color:black'>Join by SIP<o:p></o:p></span></p><p c
	lass=MsoNormal><span style='font-size:12.0pt\;font-family:"Verdana"\,sans-
	serif\;color:black'>• <a href="mailto:1610935994@sip.zoomgov.com">161093
	5994@sip.zoomgov.com</a><o:p></o:p></span></p><p class=MsoNormal><span sty
	le='font-size:12.0pt\;font-family:"Verdana"\,sans-serif\;color:black'><o:p
	>&nbsp\;</o:p></span></p><p class=MsoNormal><span style='font-size:12.0pt\
	;font-family:"Verdana"\,sans-serif\;color:black'>---<o:p></o:p></span></p>
	<p class=MsoNormal><span style='font-size:12.0pt\;font-family:"Verdana"\,s
	ans-serif\;color:black'><o:p>&nbsp\;</o:p></span></p><p class=MsoNormal><s
	pan style='font-size:12.0pt\;font-family:"Verdana"\,sans-serif\;color:blac
	k'>Join by H.323<o:p></o:p></span></p><p class=MsoNormal><span style='font
	-size:12.0pt\;font-family:"Verdana"\,sans-serif\;color:black'>• 161.199.
	138.10 (US West)<o:p></o:p></span></p><p class=MsoNormal><span style='font
	-size:12.0pt\;font-family:"Verdana"\,sans-serif\;color:black'>• 161.199.
	136.10 (US East)<o:p></o:p></span></p><p class=MsoNormal><span style='font
	-size:12.0pt\;font-family:"Verdana"\,sans-serif\;color:black'><o:p>&nbsp\;
	</o:p></span></p><p class=MsoNormal><span style='font-size:12.0pt\;font-fa
	mily:"Verdana"\,sans-serif\;color:black'>Meeting ID: 161 093 5994<o:p></o:
	p></span></p><p class=MsoNormal><span style='font-size:12.0pt\;font-family
	:"Verdana"\,sans-serif\;color:black'>Passcode: 791993<o:p></o:p></span></p
	><p class=MsoNormal><span style='font-size:12.0pt\;font-family:"Verdana"\,
	sans-serif\;color:black'><o:p>&nbsp\;</o:p></span></p><div><div><div style
	='margin-bottom:.25in\;overflow:hidden'><p class=MsoNormal><span style='fo
	nt-family:"Segoe UI"\,sans-serif\;color:#242424'><o:p>&nbsp\;</o:p></span>
	</p></div></div></div><p class=MsoNormal><span style='font-size:12.0pt\;fo
	nt-family:"Verdana"\,sans-serif\;color:black'><o:p>&nbsp\;</o:p></span></p
	></div></body></html>
X-MICROSOFT-CDO-BUSYSTATUS:BUSY
X-MICROSOFT-CDO-IMPORTANCE:1
X-MICROSOFT-DISALLOW-COUNTER:FALSE
X-MS-OLK-APPTLASTSEQUENCE:3
X-MS-OLK-APPTSEQTIME:20241122T224019Z
X-MS-OLK-AUTOFILLLOCATION:FALSE
X-MS-OLK-CONFTYPE:0
BEGIN:VALARM
TRIGGER:-PT15M
ACTION:DISPLAY
DESCRIPTION:Reminder
END:VALARM
END:VEVENT
END:VCALENDAR
