BEGIN:VCALENDAR
PRODID:-//Microsoft Corporation//Outlook 16.0 MIMEDIR//EN
VERSION:2.0
METHOD:REQUEST
X-MS-OLK-FORCEINSPECTOROPEN:TRUE
BEGIN:VTIMEZONE
TZID:Pacific Standard Time
BEGIN:STANDARD
DTSTART:16011104T020000
RRULE:FREQ=YEARLY;BYDAY=1SU;BYMONTH=11
TZOFFSETFROM:-0700
TZOFFSETTO:-0800
END:STANDARD
BEGIN:DAYLIGHT
DTSTART:16010311T020000
RRULE:FREQ=YEARLY;BYDAY=2SU;BYMONTH=3
TZOFFSETFROM:-0800
TZOFFSETTO:-0700
END:DAYLIGHT
END:VTIMEZONE
BEGIN:VEVENT
ATTENDEE;CN="Chakwin Ann  A";RSVP=TRUE:mailto:Ann.Chakwin@oha.oregon.gov
ATTENDEE;CN="Mazzei Amelia Aibina";RSVP=TRUE:mailto:Amelia.E.Mazzei@oha.ore
	gon.gov
CLASS:PUBLIC
CREATED:20250213T000318Z
DESCRIPTION:This webinar will be presented by staff from OHA's HIV/STI prev
	ention and viral hepatitis teams. We will walk through the fundamentals of
	 rapid testing for HIV\, syphilis\, and HCV\, share training and implement
	ation resources\, and have time at the end for discussion / Q&A. Join at t
	he Zoom link below. \n\n \n\nTopic: Introduction to Rapid Testing for CBOs
	\nTime: March 13\, 2025 03:30 PM Pacific Time (US and Canada)\nJoin ZoomGo
	v Meeting\nhttps://www.zoomgov.com/j/1612746352?pwd=Z9tGNjNDGkph3iRqOIuLOU
	ZvtYXetg.1\n\n \n\nMeeting ID: 161 274 6352\nPasscode: 826179\n\n \n\n \n\
	n \n\n
DTEND;TZID="Pacific Standard Time":20250313T170000
DTSTAMP:20250206T175457Z
DTSTART;TZID="Pacific Standard Time":20250313T153000
LAST-MODIFIED:20250213T000318Z
LOCATION:Zoom - see invite for link
ORGANIZER;CN="Shelley Pearson (she/her)":mailto:SHELLEY.M.PEARSON@oha.orego
	n.gov
PRIORITY:5
SEQUENCE:3
SUMMARY;LANGUAGE=en-us:Introduction to Rapid Testing for CBOs
TRANSP:OPAQUE
UID:040000008200E00074C5B7101A82E00800000000604F9A4AC573DB01000000000000000
	010000000462C09A736033A43A1407E63E250DA92
X-ALT-DESC;FMTTYPE=text/html:<html xmlns:v="urn:schemas-microsoft-com:vml" 
	xmlns:o="urn:schemas-microsoft-com:office:office" xmlns:w="urn:schemas-mic
	rosoft-com:office:word" xmlns:m="http://schemas.microsoft.com/office/2004/
	12/omml" xmlns="http://www.w3.org/TR/REC-html40"><head><meta name=Generato
	r content="Microsoft Word 15 (filtered medium)"><style><!--\n/* Font Defin
	itions */\n@font-face\n	{font-family:"Cambria Math"\;\n	panose-1:2 4 5 3 5
	 4 6 3 2 4\;}\n@font-face\n	{font-family:Verdana\;\n	panose-1:2 11 6 4 3 5
	 4 4 2 4\;}\n@font-face\n	{font-family:Aptos\;}\n@font-face\n	{font-family
	:"Segoe UI"\;\n	panose-1:2 11 5 2 4 2 4 2 2 3\;}\n/* Style Definitions */\
	np.MsoNormal\, li.MsoNormal\, div.MsoNormal\n	{margin:0in\;\n	font-size:11
	.0pt\;\n	font-family:"Aptos"\,sans-serif\;\n	mso-ligatures:standardcontext
	ual\;}\na:link\, span.MsoHyperlink\n	{mso-style-priority:99\;\n	color:#467
	886\;\n	text-decoration:underline\;}\nspan.EmailStyle18\n	{mso-style-type:
	personal-compose\;\n	font-family:"Verdana"\,sans-serif\;\n	font-variant:no
	rmal !important\;\n	color:black\;\n	text-transform:none\;\n	font-weight:no
	rmal\;\n	font-style:normal\;\n	text-decoration:none none\;\n	vertical-alig
	n:baseline\;}\n.MsoChpDefault\n	{mso-style-type:export-only\;\n	font-size:
	10.0pt\;\n	mso-ligatures:none\;}\n@page WordSection1\n	{size:8.5in 11.0in\
	;\n	margin:1.0in 1.0in 1.0in 1.0in\;}\ndiv.WordSection1\n	{page:WordSectio
	n1\;}\n--></style><!--[if gte mso 9]><xml>\n<o:shapedefaults v:ext="edit" 
	spidmax="1026" />\n</xml><![endif]--><!--[if gte mso 9]><xml>\n<o:shapelay
	out v:ext="edit">\n<o:idmap v:ext="edit" data="1" />\n</o:shapelayout></xm
	l><![endif]--></head><body lang=EN-US link="#467886" vlink="#96607D" style
	='word-wrap:break-word'><div class=WordSection1><p class=MsoNormal><span s
	tyle='font-size:12.0pt\;font-family:"Verdana"\,sans-serif'>This webinar wi
	ll be presented by staff from OHA's HIV/STI prevention and viral hepatitis
	 teams. We will walk through the fundamentals of rapid testing for HIV\, s
	yphilis\, and HCV\, share training and implementation resources\, and have
	 time at the end for discussion / Q&amp\;A. Join at the Zoom link below. <
	o:p></o:p></span></p><p class=MsoNormal><span style='font-size:12.0pt'><o:
	p>&nbsp\;</o:p></span></p><p class=MsoNormal><span style='font-size:12.0pt
	\;font-family:"Verdana"\,sans-serif\;color:black'>Topic: Introduction to R
	apid Testing for CBOs<br>Time: March 13\, 2025 03:30 PM Pacific Time (US a
	nd Canada)<br>Join ZoomGov Meeting<br><a href="https://www.zoomgov.com/j/1
	612746352?pwd=Z9tGNjNDGkph3iRqOIuLOUZvtYXetg.1" target="_blank" title="htt
	ps://www.zoomgov.com/j/1612746352?pwd=z9tgnjndgkph3irqoiulouzvtyxetg.1">ht
	tps://www.zoomgov.com/j/1612746352?pwd=Z9tGNjNDGkph3iRqOIuLOUZvtYXetg.1</a
	><o:p></o:p></span></p><p class=MsoNormal><span style='font-size:12.0pt\;f
	ont-family:"Verdana"\,sans-serif\;color:black'>&nbsp\;<o:p></o:p></span></
	p><p class=MsoNormal><span style='font-size:12.0pt\;font-family:"Verdana"\
	,sans-serif\;color:black'>Meeting ID: 161 274 6352<br>Passcode: 826179<o:p
	></o:p></span></p><p class=MsoNormal><span style='font-size:12.0pt\;font-f
	amily:"Verdana"\,sans-serif\;color:black'><o:p>&nbsp\;</o:p></span></p><di
	v><div style='margin-bottom:.25in\;overflow:hidden'><p class=MsoNormal><sp
	an style='font-size:12.0pt\;font-family:"Segoe UI"\,sans-serif\;color:#242
	424'><o:p>&nbsp\;</o:p></span></p></div></div><p class=MsoNormal><span sty
	le='font-size:12.0pt\;font-family:"Verdana"\,sans-serif\;color:black'><o:p
	>&nbsp\;</o:p></span></p></div></body></html>
X-MICROSOFT-CDO-BUSYSTATUS:BUSY
X-MICROSOFT-CDO-IMPORTANCE:1
X-MICROSOFT-DISALLOW-COUNTER:FALSE
X-MS-OLK-APPTLASTSEQUENCE:3
X-MS-OLK-APPTSEQTIME:20250206T175457Z
X-MS-OLK-AUTOFILLLOCATION:FALSE
X-MS-OLK-CONFTYPE:0
BEGIN:VALARM
TRIGGER:-PT15M
ACTION:DISPLAY
DESCRIPTION:Reminder
END:VALARM
END:VEVENT
END:VCALENDAR
